Package: breakpointR Version: 1.28.0 Command: /Library/Frameworks/R.framework/Resources/bin/R CMD check --install=check:breakpointR.install-out.txt --library=/Library/Frameworks/R.framework/Resources/library --no-vignettes --timings breakpointR_1.28.0.tar.gz StartedAt: 2025-11-18 03:25:35 -0500 (Tue, 18 Nov 2025) EndedAt: 2025-11-18 03:27:37 -0500 (Tue, 18 Nov 2025) EllapsedTime: 122.1 seconds RetCode: 0 Status: OK CheckDir: breakpointR.Rcheck Warnings: 0