Package: breakpointR Version: 1.28.0 Command: rm -rf breakpointR.buildbin-libdir && mkdir breakpointR.buildbin-libdir && /Users/biocbuild/BBS/utils/build-universal.sh breakpointR_1.28.0.tar.gz /Library/Frameworks/R.framework/Resources/bin/R breakpointR.buildbin-libdir StartedAt: 2025-11-18 15:12:02 -0500 (Tue, 18 Nov 2025) EndedAt: 2025-11-18 15:12:18 -0500 (Tue, 18 Nov 2025) EllapsedTime: 15.2 seconds RetCode: 0 Status: OK PackageFile: breakpointR_1.28.0.tgz PackageFileSize: 556.7 KiB