Package: borealis Version: 1.13.0 Command: /home/biocbuild/R/R/bin/R CMD INSTALL borealis StartedAt: 2025-10-16 21:44:50 -0000 (Thu, 16 Oct 2025) EndedAt: 2025-10-16 21:45:42 -0000 (Thu, 16 Oct 2025) EllapsedTime: 52.0 seconds RetCode: 0 Status: OK