Package: borealis Version: 1.13.0 Command: /home/biocbuild/R/R/bin/R CMD check --install=check:borealis.install-out.txt --library=/home/biocbuild/R/R/site-library --no-vignettes --timings borealis_1.13.0.tar.gz StartedAt: 2025-10-21 06:02:20 -0000 (Tue, 21 Oct 2025) EndedAt: 2025-10-21 06:09:17 -0000 (Tue, 21 Oct 2025) EllapsedTime: 416.7 seconds RetCode: 0 Status: OK CheckDir: borealis.Rcheck Warnings: 0