Package: borealis Version: 1.13.0 Command: /home/biocbuild/R/R/bin/R CMD build --keep-empty-dirs --no-resave-data borealis StartedAt: 2025-10-16 23:39:49 -0000 (Thu, 16 Oct 2025) EndedAt: 2025-10-16 23:43:15 -0000 (Thu, 16 Oct 2025) EllapsedTime: 206.1 seconds RetCode: 0 Status: OK PackageFile: borealis_1.13.0.tar.gz PackageFileSize: 383 KiB