Package: borealis Version: 1.13.0 Command: rm -rf borealis.buildbin-libdir && mkdir borealis.buildbin-libdir && F:\biocbuild\bbs-3.22-bioc\R\bin\R.exe CMD INSTALL --build --library=borealis.buildbin-libdir borealis_1.13.0.tar.gz StartedAt: 2025-08-15 09:51:49 -0400 (Fri, 15 Aug 2025) EndedAt: 2025-08-15 09:52:37 -0400 (Fri, 15 Aug 2025) EllapsedTime: 48.1 seconds RetCode: 0 Status: OK PackageFile: borealis_1.13.0.zip PackageFileSize: 394.5 KiB