Package: borealis Version: 1.13.0 Command: /home/biocbuild/bbs-3.22-bioc/R/bin/R CMD INSTALL borealis StartedAt: 2025-10-17 15:36:07 -0400 (Fri, 17 Oct 2025) EndedAt: 2025-10-17 15:36:47 -0400 (Fri, 17 Oct 2025) EllapsedTime: 39.9 seconds RetCode: 0 Status: OK