Package: borealis Version: 1.13.0 Command: /Library/Frameworks/R.framework/Resources/bin/R CMD INSTALL borealis StartedAt: 2025-10-17 15:17:28 -0400 (Fri, 17 Oct 2025) EndedAt: 2025-10-17 15:17:45 -0400 (Fri, 17 Oct 2025) EllapsedTime: 17.1 seconds RetCode: 0 Status: OK