Package: borealis Version: 1.13.0 Command: /Library/Frameworks/R.framework/Resources/bin/R CMD check --install=check:borealis.install-out.txt --library=/Library/Frameworks/R.framework/Resources/library --no-vignettes --timings borealis_1.13.0.tar.gz StartedAt: 2025-10-19 18:42:27 -0400 (Sun, 19 Oct 2025) EndedAt: 2025-10-19 18:44:27 -0400 (Sun, 19 Oct 2025) EllapsedTime: 119.5 seconds RetCode: 0 Status: OK CheckDir: borealis.Rcheck Warnings: 0