Package: bnbc Version: 1.31.1 Command: /home/biocbuild/R/R/bin/R CMD INSTALL bnbc StartedAt: 2025-10-20 20:45:17 -0000 (Mon, 20 Oct 2025) EndedAt: 2025-10-20 20:46:17 -0000 (Mon, 20 Oct 2025) EllapsedTime: 60.0 seconds RetCode: 0 Status: OK