Package: bnbc Version: 1.31.1 Command: /home/biocbuild/bbs-3.22-bioc/R/bin/R CMD check --install=check:bnbc.install-out.txt --library=/home/biocbuild/bbs-3.22-bioc/R/site-library --timings bnbc_1.31.1.tar.gz StartedAt: 2025-10-19 21:39:43 -0400 (Sun, 19 Oct 2025) EndedAt: 2025-10-19 21:45:21 -0400 (Sun, 19 Oct 2025) EllapsedTime: 337.3 seconds RetCode: 0 Status: OK CheckDir: bnbc.Rcheck Warnings: 0