Package: bnbc Version: 1.31.1 Command: /Library/Frameworks/R.framework/Resources/bin/R CMD build --keep-empty-dirs --no-resave-data bnbc StartedAt: 2025-10-02 16:13:57 -0400 (Thu, 02 Oct 2025) EndedAt: 2025-10-02 16:15:44 -0400 (Thu, 02 Oct 2025) EllapsedTime: 106.3 seconds RetCode: 0 Status: OK PackageFile: bnbc_1.31.1.tar.gz PackageFileSize: 4.152 MiB