Package: bluster Version: 1.19.0 Command: /Library/Frameworks/R.framework/Resources/bin/R CMD INSTALL bluster StartedAt: 2025-10-17 15:10:19 -0400 (Fri, 17 Oct 2025) EndedAt: 2025-10-17 15:10:26 -0400 (Fri, 17 Oct 2025) EllapsedTime: 7.0 seconds RetCode: 0 Status: OK