Package: bluster Version: 1.19.0 Command: /Library/Frameworks/R.framework/Resources/bin/R CMD check --install=check:bluster.install-out.txt --library=/Library/Frameworks/R.framework/Resources/library --no-vignettes --timings bluster_1.19.0.tar.gz StartedAt: 2025-10-12 18:26:35 -0400 (Sun, 12 Oct 2025) EndedAt: 2025-10-12 18:27:28 -0400 (Sun, 12 Oct 2025) EllapsedTime: 53.6 seconds RetCode: 0 Status: OK CheckDir: bluster.Rcheck Warnings: 0