Package: bluster Version: 1.19.0 Command: /Library/Frameworks/R.framework/Resources/bin/R CMD build --keep-empty-dirs --no-resave-data bluster StartedAt: 2025-10-16 15:59:54 -0400 (Thu, 16 Oct 2025) EndedAt: 2025-10-16 16:00:27 -0400 (Thu, 16 Oct 2025) EllapsedTime: 32.3 seconds RetCode: 1 Status: ERROR PackageFile: None PackageFileSize: NA