Package: bluster Version: 1.19.0 Command: rm -rf bluster.buildbin-libdir && mkdir bluster.buildbin-libdir && /Users/biocbuild/BBS/utils/build-universal.sh bluster_1.19.0.tar.gz /Library/Frameworks/R.framework/Resources/bin/R bluster.buildbin-libdir StartedAt: 2025-10-12 22:30:14 -0400 (Sun, 12 Oct 2025) EndedAt: 2025-10-12 22:30:23 -0400 (Sun, 12 Oct 2025) EllapsedTime: 9.2 seconds RetCode: 0 Status: OK PackageFile: bluster_1.19.0.tgz PackageFileSize: 3.715 MiB