Package: blase Version: 1.0.0 Command: /home/biocbuild/bbs-3.22-bioc/R/bin/R CMD INSTALL blase StartedAt: 2025-11-14 15:59:07 -0500 (Fri, 14 Nov 2025) EndedAt: 2025-11-14 15:59:50 -0500 (Fri, 14 Nov 2025) EllapsedTime: 42.1 seconds RetCode: 0 Status: OK