Package: blase Version: 1.0.0 Command: /home/biocbuild/bbs-3.22-bioc/R/bin/R CMD check --install=check:blase.install-out.txt --library=/home/biocbuild/bbs-3.22-bioc/R/site-library --timings blase_1.0.0.tar.gz StartedAt: 2025-11-14 21:42:50 -0500 (Fri, 14 Nov 2025) EndedAt: 2025-11-14 22:05:53 -0500 (Fri, 14 Nov 2025) EllapsedTime: 1383.6 seconds RetCode: 0 Status: OK CheckDir: blase.Rcheck Warnings: 0