Package: blase Version: 1.0.0 Command: /Library/Frameworks/R.framework/Resources/bin/R CMD INSTALL blase StartedAt: 2025-11-09 15:29:44 -0500 (Sun, 09 Nov 2025) EndedAt: 2025-11-09 15:30:00 -0500 (Sun, 09 Nov 2025) EllapsedTime: 16.5 seconds RetCode: 0 Status: OK