Package: blase Version: 1.0.0 Command: rm -rf blase.buildbin-libdir && mkdir blase.buildbin-libdir && /Users/biocbuild/BBS/utils/build-universal.sh blase_1.0.0.tar.gz /Library/Frameworks/R.framework/Resources/bin/R blase.buildbin-libdir StartedAt: 2025-11-09 23:00:42 -0500 (Sun, 09 Nov 2025) EndedAt: 2025-11-09 23:01:01 -0500 (Sun, 09 Nov 2025) EllapsedTime: 19.4 seconds RetCode: 0 Status: OK PackageFile: blase_1.0.0.tgz PackageFileSize: 8.998 MiB