Package: biovizBase Version: 1.57.1 Command: F:\biocbuild\bbs-3.22-bioc\R\bin\R.exe CMD check --no-multiarch --install=check:biovizBase.install-out.txt --library=F:\biocbuild\bbs-3.22-bioc\R\library --no-vignettes --timings biovizBase_1.57.1.tar.gz StartedAt: 2025-08-15 01:06:14 -0400 (Fri, 15 Aug 2025) EndedAt: 2025-08-15 01:13:53 -0400 (Fri, 15 Aug 2025) EllapsedTime: 458.9 seconds RetCode: 0 Status: WARNINGS CheckDir: biovizBase.Rcheck Warnings: 2