Package: biovizBase Version: 1.57.1 Command: /home/biocbuild/bbs-3.22-bioc/R/bin/R CMD INSTALL biovizBase StartedAt: 2025-10-19 15:43:27 -0400 (Sun, 19 Oct 2025) EndedAt: 2025-10-19 15:44:15 -0400 (Sun, 19 Oct 2025) EllapsedTime: 48.0 seconds RetCode: 0 Status: OK