Package: biovizBase Version: 1.57.1 Command: /home/biocbuild/bbs-3.22-bioc/R/bin/R CMD check --install=check:biovizBase.install-out.txt --library=/home/biocbuild/bbs-3.22-bioc/R/site-library --timings biovizBase_1.57.1.tar.gz StartedAt: 2025-10-19 21:36:12 -0400 (Sun, 19 Oct 2025) EndedAt: 2025-10-19 21:42:19 -0400 (Sun, 19 Oct 2025) EllapsedTime: 367.3 seconds RetCode: 0 Status: WARNINGS CheckDir: biovizBase.Rcheck Warnings: 2