Package: biovizBase Version: 1.57.1 Command: /home/biocbuild/bbs-3.22-bioc/R/bin/R CMD build --keep-empty-dirs --no-resave-data --md5 biovizBase StartedAt: 2025-10-19 16:33:02 -0400 (Sun, 19 Oct 2025) EndedAt: 2025-10-19 16:34:08 -0400 (Sun, 19 Oct 2025) EllapsedTime: 66.1 seconds RetCode: 0 Status: OK PackageFile: biovizBase_1.57.1.tar.gz PackageFileSize: 2.401 MiB