Package: biovizBase Version: 1.57.1 Command: /Library/Frameworks/R.framework/Resources/bin/R CMD build --keep-empty-dirs --no-resave-data biovizBase StartedAt: 2025-10-19 15:46:45 -0400 (Sun, 19 Oct 2025) EndedAt: 2025-10-19 15:47:13 -0400 (Sun, 19 Oct 2025) EllapsedTime: 27.3 seconds RetCode: 0 Status: OK PackageFile: biovizBase_1.57.1.tar.gz PackageFileSize: 2.397 MiB