Package: biotmle Version: 1.34.0 Command: /Library/Frameworks/R.framework/Resources/bin/R CMD INSTALL biotmle StartedAt: 2025-11-03 15:39:01 -0500 (Mon, 03 Nov 2025) EndedAt: 2025-11-03 15:39:37 -0500 (Mon, 03 Nov 2025) EllapsedTime: 35.6 seconds RetCode: 0 Status: OK