Package: biotmle Version: 1.34.0 Command: /Library/Frameworks/R.framework/Resources/bin/R CMD build --keep-empty-dirs --no-resave-data biotmle StartedAt: 2025-11-03 16:16:04 -0500 (Mon, 03 Nov 2025) EndedAt: 2025-11-03 16:17:29 -0500 (Mon, 03 Nov 2025) EllapsedTime: 84.6 seconds RetCode: 0 Status: OK PackageFile: biotmle_1.34.0.tar.gz PackageFileSize: 315.9 KiB