Package: biosigner Version: 1.38.0 Command: /home/biocbuild/R/R/bin/R CMD INSTALL biosigner StartedAt: 2025-11-10 21:46:10 -0000 (Mon, 10 Nov 2025) EndedAt: 2025-11-10 21:46:46 -0000 (Mon, 10 Nov 2025) EllapsedTime: 35.9 seconds RetCode: 0 Status: OK