Package: biosigner Version: 1.38.0 Command: /home/biocbuild/R/R/bin/R CMD check --install=check:biosigner.install-out.txt --library=/home/biocbuild/R/R/site-library --no-vignettes --timings biosigner_1.38.0.tar.gz StartedAt: 2025-11-14 07:22:15 -0000 (Fri, 14 Nov 2025) EndedAt: 2025-11-14 07:28:24 -0000 (Fri, 14 Nov 2025) EllapsedTime: 369.5 seconds RetCode: 1 Status: ERROR CheckDir: biosigner.Rcheck Warnings: NA