Package: biosigner Version: 1.38.0 Command: /home/biocbuild/R/R/bin/R CMD build --keep-empty-dirs --no-resave-data biosigner StartedAt: 2025-11-14 00:04:27 -0000 (Fri, 14 Nov 2025) EndedAt: 2025-11-14 00:08:09 -0000 (Fri, 14 Nov 2025) EllapsedTime: 222.1 seconds RetCode: 0 Status: OK PackageFile: biosigner_1.38.0.tar.gz PackageFileSize: 4.142 MiB