Package: biosigner Version: 1.38.0 Command: /Library/Frameworks/R.framework/Resources/bin/R CMD build --keep-empty-dirs --no-resave-data biosigner StartedAt: 2025-11-03 16:15:53 -0500 (Mon, 03 Nov 2025) EndedAt: 2025-11-03 16:18:44 -0500 (Mon, 03 Nov 2025) EllapsedTime: 171.2 seconds RetCode: 0 Status: OK PackageFile: biosigner_1.38.0.tar.gz PackageFileSize: 5.08 MiB