Package: biomvRCNS Version: 1.50.0 Command: /Library/Frameworks/R.framework/Resources/bin/R CMD INSTALL biomvRCNS StartedAt: 2025-11-17 18:34:09 -0500 (Mon, 17 Nov 2025) EndedAt: 2025-11-17 18:36:07 -0500 (Mon, 17 Nov 2025) EllapsedTime: 117.9 seconds RetCode: 0 Status: OK