Package: biomvRCNS Version: 1.50.0 Command: /Library/Frameworks/R.framework/Resources/bin/R CMD build --keep-empty-dirs --no-resave-data biomvRCNS StartedAt: 2025-11-17 20:40:36 -0500 (Mon, 17 Nov 2025) EndedAt: 2025-11-17 20:45:54 -0500 (Mon, 17 Nov 2025) EllapsedTime: 317.2 seconds RetCode: 0 Status: OK PackageFile: biomvRCNS_1.50.0.tar.gz PackageFileSize: 804.2 KiB