Package: biomaRt Version: 2.65.16 Command: /home/biocbuild/R/R/bin/R CMD INSTALL biomaRt StartedAt: 2025-10-23 20:46:40 -0000 (Thu, 23 Oct 2025) EndedAt: 2025-10-23 20:47:01 -0000 (Thu, 23 Oct 2025) EllapsedTime: 20.8 seconds RetCode: 0 Status: OK