############################################################################## ############################################################################## ### ### Running command: ### ### /home/biocbuild/R/R/bin/R CMD check --install=check:biomaRt.install-out.txt --library=/home/biocbuild/R/R/site-library --no-vignettes --timings biomaRt_2.65.16.tar.gz ### ############################################################################## ############################################################################## * using log directory ‘/home/biocbuild/bbs-3.22-bioc/meat/biomaRt.Rcheck’ * using R version 4.5.0 (2025-04-11) * using platform: aarch64-unknown-linux-gnu * R was compiled by aarch64-unknown-linux-gnu-gcc (GCC) 14.2.0 GNU Fortran (GCC) 14.2.0 * running under: openEuler 24.03 (LTS) * using session charset: UTF-8 * using option ‘--no-vignettes’ * checking for file ‘biomaRt/DESCRIPTION’ ... OK * this is package ‘biomaRt’ version ‘2.65.16’ * package encoding: UTF-8 * checking package namespace information ... OK * checking package dependencies ...