Package: biomaRt Version: 2.65.16 Command: /home/biocbuild/R/R/bin/R CMD build --keep-empty-dirs --no-resave-data biomaRt StartedAt: 2025-10-20 22:17:06 -0000 (Mon, 20 Oct 2025) EndedAt: 2025-10-20 22:18:52 -0000 (Mon, 20 Oct 2025) EllapsedTime: 106.0 seconds RetCode: 0 Status: OK PackageFile: biomaRt_2.65.16.tar.gz PackageFileSize: 937.4 KiB