Package: biomaRt Version: 2.65.0 Command: F:\biocbuild\bbs-3.22-bioc\R\bin\R.exe CMD check --no-multiarch --install=check:biomaRt.install-out.txt --library=F:\biocbuild\bbs-3.22-bioc\R\library --no-vignettes --timings biomaRt_2.65.0.tar.gz StartedAt: 2025-08-15 01:01:17 -0400 (Fri, 15 Aug 2025) EndedAt: 2025-08-15 01:05:06 -0400 (Fri, 15 Aug 2025) EllapsedTime: 229.0 seconds RetCode: 0 Status: OK CheckDir: biomaRt.Rcheck Warnings: 0