Package: biomaRt Version: 2.65.16 Command: /home/biocbuild/bbs-3.22-bioc/R/bin/R CMD INSTALL biomaRt StartedAt: 2025-10-20 15:24:47 -0400 (Mon, 20 Oct 2025) EndedAt: 2025-10-20 15:25:02 -0400 (Mon, 20 Oct 2025) EllapsedTime: 15.1 seconds RetCode: 0 Status: OK