Package: biomaRt Version: 2.65.16 Command: /home/biocbuild/bbs-3.22-bioc/R/bin/R CMD build --keep-empty-dirs --no-resave-data --md5 biomaRt StartedAt: 2025-10-19 16:31:49 -0400 (Sun, 19 Oct 2025) EndedAt: 2025-10-19 16:33:02 -0400 (Sun, 19 Oct 2025) EllapsedTime: 73.0 seconds RetCode: 0 Status: OK PackageFile: biomaRt_2.65.16.tar.gz PackageFileSize: 888.3 KiB