Package: biomaRt Version: 2.65.16 Command: /Library/Frameworks/R.framework/Resources/bin/R CMD build --keep-empty-dirs --no-resave-data biomaRt StartedAt: 2025-10-23 16:12:11 -0400 (Thu, 23 Oct 2025) EndedAt: 2025-10-23 16:13:47 -0400 (Thu, 23 Oct 2025) EllapsedTime: 95.1 seconds RetCode: 0 Status: OK PackageFile: biomaRt_2.65.16.tar.gz PackageFileSize: 885 KiB