Package: biomaRt Version: 2.65.16 Command: rm -rf biomaRt.buildbin-libdir && mkdir biomaRt.buildbin-libdir && /Users/biocbuild/BBS/utils/build-universal.sh biomaRt_2.65.16.tar.gz /Library/Frameworks/R.framework/Resources/bin/R biomaRt.buildbin-libdir StartedAt: 2025-10-24 01:24:11 -0400 (Fri, 24 Oct 2025) EndedAt: 2025-10-24 01:24:38 -0400 (Fri, 24 Oct 2025) EllapsedTime: 26.6 seconds RetCode: 0 Status: OK PackageFile: biomaRt_2.65.16.tgz PackageFileSize: 964.4 KiB