Package: biomaRt Version: 2.66.0 Command: /Library/Frameworks/R.framework/Resources/bin/R CMD INSTALL biomaRt StartedAt: 2025-11-02 15:08:59 -0500 (Sun, 02 Nov 2025) EndedAt: 2025-11-02 15:09:06 -0500 (Sun, 02 Nov 2025) EllapsedTime: 6.7 seconds RetCode: 0 Status: OK