Package: biomaRt Version: 2.66.0 Command: /Library/Frameworks/R.framework/Resources/bin/R CMD check --install=check:biomaRt.install-out.txt --library=/Library/Frameworks/R.framework/Resources/library --no-vignettes --timings biomaRt_2.66.0.tar.gz StartedAt: 2025-10-31 18:46:29 -0400 (Fri, 31 Oct 2025) EndedAt: 2025-10-31 18:47:30 -0400 (Fri, 31 Oct 2025) EllapsedTime: 60.8 seconds RetCode: 0 Status: OK CheckDir: biomaRt.Rcheck Warnings: 0