Package: biodbNci Version: 1.13.0 Command: rm -rf biodbNci.buildbin-libdir && mkdir biodbNci.buildbin-libdir && /Users/biocbuild/BBS/utils/build-universal.sh biodbNci_1.13.0.tar.gz /Library/Frameworks/R.framework/Resources/bin/R biodbNci.buildbin-libdir StartedAt: 2025-06-12 00:38:37 -0400 (Thu, 12 Jun 2025) EndedAt: 2025-06-12 00:39:18 -0400 (Thu, 12 Jun 2025) EllapsedTime: 40.4 seconds RetCode: 0 Status: OK PackageFile: biodbNci_1.13.0.tgz PackageFileSize: 608.6 KiB