Package: biodbNci Version: 1.13.0 Command: rm -rf biodbNci.buildbin-libdir && mkdir biodbNci.buildbin-libdir && /Users/biocbuild/BBS/utils/build-universal.sh biodbNci_1.13.0.tar.gz /Library/Frameworks/R.framework/Resources/bin/R biodbNci.buildbin-libdir StartedAt: 2025-06-11 22:11:11 -0400 (Wed, 11 Jun 2025) EndedAt: 2025-06-11 22:11:21 -0400 (Wed, 11 Jun 2025) EllapsedTime: 10.2 seconds RetCode: 0 Status: OK PackageFile: biodbNci_1.13.0.tgz PackageFileSize: 590.2 KiB