Package: biodbNcbi Version: 1.13.1 Command: chmod a+r biodbNcbi -R && F:\biocbuild\bbs-3.22-bioc\R\bin\R.exe CMD build --keep-empty-dirs --no-resave-data biodbNcbi StartedAt: 2025-08-14 18:46:24 -0400 (Thu, 14 Aug 2025) EndedAt: 2025-08-14 18:48:29 -0400 (Thu, 14 Aug 2025) EllapsedTime: 125.2 seconds RetCode: 1 Status: ERROR PackageFile: None PackageFileSize: NA