Package: biodbNcbi Version: 1.13.0 Command: rm -rf biodbNcbi.buildbin-libdir && mkdir biodbNcbi.buildbin-libdir && F:\biocbuild\bbs-3.22-bioc\R\bin\R.exe CMD INSTALL --build --library=biodbNcbi.buildbin-libdir biodbNcbi_1.13.0.tar.gz StartedAt: 2025-06-12 08:23:37 -0400 (Thu, 12 Jun 2025) EndedAt: 2025-06-12 08:24:01 -0400 (Thu, 12 Jun 2025) EllapsedTime: 24.1 seconds RetCode: 0 Status: OK PackageFile: biodbNcbi_1.13.0.zip PackageFileSize: 1.142 MiB