Package: biodbNcbi Version: 1.14.0 Command: /Library/Frameworks/R.framework/Resources/bin/R CMD INSTALL biodbNcbi StartedAt: 2025-11-17 17:06:33 -0500 (Mon, 17 Nov 2025) EndedAt: 2025-11-17 17:07:02 -0500 (Mon, 17 Nov 2025) EllapsedTime: 29.8 seconds RetCode: 0 Status: OK