Package: biodbNcbi Version: 1.14.0 Command: /Library/Frameworks/R.framework/Resources/bin/R CMD build --keep-empty-dirs --no-resave-data biodbNcbi StartedAt: 2025-11-17 20:39:15 -0500 (Mon, 17 Nov 2025) EndedAt: 2025-11-17 20:39:55 -0500 (Mon, 17 Nov 2025) EllapsedTime: 40.2 seconds RetCode: 1 Status: ERROR PackageFile: None PackageFileSize: NA