Package: biodbNcbi Version: 1.14.0 Command: /Library/Frameworks/R.framework/Resources/bin/R CMD build --keep-empty-dirs --no-resave-data biodbNcbi StartedAt: 2025-11-03 16:15:13 -0500 (Mon, 03 Nov 2025) EndedAt: 2025-11-03 16:15:36 -0500 (Mon, 03 Nov 2025) EllapsedTime: 22.9 seconds RetCode: 1 Status: ERROR PackageFile: None PackageFileSize: NA